BEGIN:VCALENDAR
VERSION:1.0
PRODID:Open2CBasicKalenderExportV11
BEGIN:VEVENT

DTSTAMP:20121212T133932Z
DTSTART:20120123T183000Z
DTEND:20130123T210000Z
CATEGORIES:Energiewende
URL:http://www.www-kurs.de/ewb/html/heizungspumpen.html
SUMMARY;CHARSET=UTF-8:Heizungspumpentausch - Infoabend
DESCRIPTION;CHARSET=UTF-8:Einladung zum „sparenden“ Abend: „Strom sparen bei der Heizung - wie geht das?“ | Das Team vom Grünen Gockel der Lukasgemeinde und der Arbeitskreis Energiewende Bubenreuth la-den ein und stellen zusammen mit der Energiewende ER(H)Langen die Aktion Heizungspumpentausch vor:Informationsveranstaltung am | Mittwoch, 23. Januar 2013, um 19.30 Uhr,im Gemeindesaal der Lukaskirche, Bubenreuth, Bergstr. 7. | Alte Heizungspumpen ver\nauchen unnötig Energie und belasten das Haushaltskonto. Durch den Aus-tausch alter Heizungspumpen gegen effiziente Pum-pen lässt sich der Stromver\nauch erheblich reduzieren.Über die Vorgehensweise zur Aktion Heizungspum-pentausch informiert Johannes Kollinger vom AK „E-nergie“ der Agenda 21 Herzogenaurach. | Zusätzlich hält Heinz Horbaschek von der Aktions-gruppe Neue Energie vom Bund Naturschutz Erlan-gen eine Präsentation zum Thema „Einsparungen an bestehenden und neuen Heizanlagen“. | Alle Bürgerinnen und Bürger aus Bubenreuth, Möh-rendorf, Baiersdorf und den Nachbargemeinden sind herzlich eingeladen, sich zu informieren, wie sie bei der Heizungsanlage Energie und Kosten einsparen können. | Organisator   Arbeitskreis Energiewende | Umweltteam Grüner Gockel | Initiative Energiewende ER(H)langen | Kontakt   energiewende-bubenreuth@online.ms
LOCATION;CHARSET=UTF-8:Gemeindezentrum der Lukasgemeinde
 Bergstraße 7
UID:8ed3507dbb1e446e180ecbed0697451b-9648a5f61be74d65a38501ffebabd2cb
PRIORITY:3
END:VEVENT
BEGIN:VEVENT

DTSTAMP:20121114T092929Z
DTSTART:20120710T180000Z
DTEND:20120710T200000Z
CATEGORIES:Energiewende
URL:http://www.www-kurs.de/ewb/
SUMMARY;CHARSET=UTF-8:Energiewende für Bubenreuth / Plenum
DESCRIPTION;CHARSET=UTF-8:Plenumstreffen, Austausch zwischen den Arbeitsgruppen, Planung gemeinsamer Aktivitäten.Interessierte Bürgerinnen und Bürger sind herzlich eingeladen.Wollen Sie nur informiert werden, nehmen Sie Kontakt mit uns auf: energiewende-bubenreuth@online.ms | Organisator   Energiewende Bubenreuth | Kontakt   J.Karl@web.de
LOCATION;CHARSET=UTF-8:Rathaus
UID:a85f9adee750a273139f015bb448baf9-77a48821cb7ff0cebaf947b7324b914f
PRIORITY:3
END:VEVENT
BEGIN:VEVENT

DTSTAMP:20120704T094310Z
DTSTART:20120712T140000Z
DTEND:20120712T180000Z
CATEGORIES:Verschiedenes
SUMMARY;CHARSET=UTF-8:Jugendtreff am Donnerstag, 12. Juli wieder offen
DESCRIPTION;CHARSET=UTF-8:
LOCATION;CHARSET=UTF-8:
UID:0937fe2e494648a502ba4bee7597bfcb-89f322d04ca771447d2dc7eee7147c76
PRIORITY:3
END:VEVENT
END:VCALENDAR