BEGIN:VCALENDAR
VERSION:1.0
PRODID:Open2CBasicKalenderExportV11
BEGIN:VEVENT

DTSTAMP:20121212T133932Z
DTSTART:20120123T183000Z
DTEND:20130123T210000Z
CATEGORIES:Energiewende
URL:http://www.www-kurs.de/ewb/html/heizungspumpen.html
SUMMARY;CHARSET=UTF-8:Heizungspumpentausch - Infoabend
DESCRIPTION;CHARSET=UTF-8:Einladung zum „sparenden“ Abend: „Strom sparen bei der Heizung - wie geht das?“ | Das Team vom Grünen Gockel der Lukasgemeinde und der Arbeitskreis Energiewende Bubenreuth la-den ein und stellen zusammen mit der Energiewende ER(H)Langen die Aktion Heizungspumpentausch vor:Informationsveranstaltung am | Mittwoch, 23. Januar 2013, um 19.30 Uhr,im Gemeindesaal der Lukaskirche, Bubenreuth, Bergstr. 7. | Alte Heizungspumpen ver\nauchen unnötig Energie und belasten das Haushaltskonto. Durch den Aus-tausch alter Heizungspumpen gegen effiziente Pum-pen lässt sich der Stromver\nauch erheblich reduzieren.Über die Vorgehensweise zur Aktion Heizungspum-pentausch informiert Johannes Kollinger vom AK „E-nergie“ der Agenda 21 Herzogenaurach. | Zusätzlich hält Heinz Horbaschek von der Aktions-gruppe Neue Energie vom Bund Naturschutz Erlan-gen eine Präsentation zum Thema „Einsparungen an bestehenden und neuen Heizanlagen“. | Alle Bürgerinnen und Bürger aus Bubenreuth, Möh-rendorf, Baiersdorf und den Nachbargemeinden sind herzlich eingeladen, sich zu informieren, wie sie bei der Heizungsanlage Energie und Kosten einsparen können. | Organisator   Arbeitskreis Energiewende | Umweltteam Grüner Gockel | Initiative Energiewende ER(H)langen | Kontakt   energiewende-bubenreuth@online.ms
LOCATION;CHARSET=UTF-8:Gemeindezentrum der Lukasgemeinde
 Bergstraße 7
UID:8ed3507dbb1e446e180ecbed0697451b-9648a5f61be74d65a38501ffebabd2cb
PRIORITY:3
END:VEVENT
BEGIN:VEVENT

DTSTAMP:20120215T093108Z
DTSTART:20120411T080000Z
DTEND:20120411T150000Z
CATEGORIES:Verschiedenes
SUMMARY;CHARSET=UTF-8:Einen Podcast produzieren, moderieren, Interviews führen, eine Radiosendung vorbereiten? Wer darauf Lust hat, der ist genau richtig in den Osterferien
DESCRIPTION;CHARSET=UTF-8:
LOCATION;CHARSET=UTF-8:
UID:243fa5987ef230eb95d21cbf2bdc4ea0-af10f20b42b052485b516f35318a37b0
PRIORITY:3
END:VEVENT
BEGIN:VEVENT

DTSTAMP:20120215T093144Z
DTSTART:20120412T080000Z
DTEND:20120412T150000Z
CATEGORIES:Verschiedenes
SUMMARY;CHARSET=UTF-8:copy of Einen Podcast produzieren, moderieren, Interviews führen, eine Radiosendung vorbereiten? Wer darauf Lust hat, der ist genau richtig in den Osterferien
DESCRIPTION;CHARSET=UTF-8:
LOCATION;CHARSET=UTF-8:
UID:f8405fdac03220705b7544f783cbc87f-7e11ab0c4d40707f073c3cdb64057517
PRIORITY:3
END:VEVENT
BEGIN:VEVENT

DTSTAMP:20120322T155023Z
DTSTART:20120418T140000Z
DTEND:20120418T180000Z
CATEGORIES:Verschiedenes
SUMMARY;CHARSET=UTF-8:Jugendtreff wieder am Mittwoch, 18. April offen
DESCRIPTION;CHARSET=UTF-8:
LOCATION;CHARSET=UTF-8:
UID:a4899df074a0b19fe6d12fc4bb6bd541-b6a2537e86fc54092583221e7e0464fd
PRIORITY:3
END:VEVENT
END:VCALENDAR