BEGIN:VCALENDAR
VERSION:1.0
PRODID:Open2CBasicKalenderExportV11
BEGIN:VEVENT

DTSTAMP:20121212T133932Z
DTSTART:20120123T183000Z
DTEND:20130123T210000Z
CATEGORIES:Energiewende
URL:http://www.www-kurs.de/ewb/html/heizungspumpen.html
SUMMARY;CHARSET=UTF-8:Heizungspumpentausch - Infoabend
DESCRIPTION;CHARSET=UTF-8:Einladung zum „sparenden“ Abend: „Strom sparen bei der Heizung - wie geht das?“ | Das Team vom Grünen Gockel der Lukasgemeinde und der Arbeitskreis Energiewende Bubenreuth la-den ein und stellen zusammen mit der Energiewende ER(H)Langen die Aktion Heizungspumpentausch vor:Informationsveranstaltung am | Mittwoch, 23. Januar 2013, um 19.30 Uhr,im Gemeindesaal der Lukaskirche, Bubenreuth, Bergstr. 7. | Alte Heizungspumpen ver\nauchen unnötig Energie und belasten das Haushaltskonto. Durch den Aus-tausch alter Heizungspumpen gegen effiziente Pum-pen lässt sich der Stromver\nauch erheblich reduzieren.Über die Vorgehensweise zur Aktion Heizungspum-pentausch informiert Johannes Kollinger vom AK „E-nergie“ der Agenda 21 Herzogenaurach. | Zusätzlich hält Heinz Horbaschek von der Aktions-gruppe Neue Energie vom Bund Naturschutz Erlan-gen eine Präsentation zum Thema „Einsparungen an bestehenden und neuen Heizanlagen“. | Alle Bürgerinnen und Bürger aus Bubenreuth, Möh-rendorf, Baiersdorf und den Nachbargemeinden sind herzlich eingeladen, sich zu informieren, wie sie bei der Heizungsanlage Energie und Kosten einsparen können. | Organisator   Arbeitskreis Energiewende | Umweltteam Grüner Gockel | Initiative Energiewende ER(H)langen | Kontakt   energiewende-bubenreuth@online.ms
LOCATION;CHARSET=UTF-8:Gemeindezentrum der Lukasgemeinde
 Bergstraße 7
UID:8ed3507dbb1e446e180ecbed0697451b-9648a5f61be74d65a38501ffebabd2cb
PRIORITY:3
END:VEVENT
BEGIN:VEVENT

DTSTAMP:20120131T071427Z
DTSTART:20120208T183000Z
DTEND:20120208T183000Z
CATEGORIES:Verschiedenes
SUMMARY;CHARSET=UTF-8:Arbeitskreis "Energieautarkes Bubenreuth"
DESCRIPTION;CHARSET=UTF-8:
LOCATION;CHARSET=UTF-8:
UID:c3c198d4a143afdeb34627003de149fb-58e01fcfc23d760fa8a3bb0b6eeda70c
PRIORITY:3
END:VEVENT
BEGIN:VEVENT

DTSTAMP:20120208T100756Z
DTSTART:20120223T150000Z
DTEND:20120223T190000Z
CATEGORIES:Verschiedenes
SUMMARY;CHARSET=UTF-8:Jugendtreff das nächste Mal am 23. Februar offen
DESCRIPTION;CHARSET=UTF-8: | Organisator   Andrea Nehr
LOCATION;CHARSET=UTF-8:Frankenstraße 49
 SVB-Sportheim
UID:bcf6d5699be7520c996b761ddb88df47-2f66b2cd925b96f9ba86632e035cc233
PRIORITY:3
END:VEVENT
END:VCALENDAR