BEGIN:VCALENDAR
VERSION:1.0
PRODID:Open2CBasicKalenderExportV11
BEGIN:VEVENT

DTSTAMP:20120605T121018Z
DTSTART:20120628T140000Z
DTEND:20120628T150000Z
CATEGORIES:Verschiedenes
SUMMARY;CHARSET=UTF-8:Vorlesestunde für Kinder
DESCRIPTION;CHARSET=UTF-8:  | Schluri Schlampowski und die Spielzeugbande von Brigitte Endres |   | In unserer monatlichen Vorlesestunde am Donnerstag, den 28.06.12, von 16.00 - 17.00 Uhr stellen wir diesmal Schluri Schlampowski vor, ein zotteliges Wesen, das das Leben von Puppendoktor Helfrich und seiner Spielzeugbande gehörig durcheinander wirbelt, denn Schluri ist schlampig, frech und hat eine Vorliebe für rohe Zwiebeln und Schlammbäder.
LOCATION;CHARSET=UTF-8:
UID:8e6e722686d594e8e98a8dd6b66a63ab-7366ae6d6ce466c139b3533eee9b5606
PRIORITY:3
END:VEVENT
END:VCALENDAR