BEGIN:VCALENDAR
VERSION:1.0
PRODID:Open2CBasicKalenderExportV11
BEGIN:VEVENT

DTSTAMP:20120105T133958Z
DTSTART:20120118T150000Z
DTEND:20120118T190000Z
CATEGORIES:Verschiedenes
SUMMARY;CHARSET=UTF-8:Jugendtreff am MIttwoch, 18.1 geöffnet
DESCRIPTION;CHARSET=UTF-8:
LOCATION;CHARSET=UTF-8:
UID:f3a0fd399574e72f02758fc9e66a03c2-03fc9dec52d23f8bf0ae3d2abb0cb727
PRIORITY:3
END:VEVENT
END:VCALENDAR