BEGIN:VCALENDAR
VERSION:1.0
PRODID:Open2CBasicKalenderExportV11
BEGIN:VEVENT

DTSTAMP:20111213T135532Z
DTSTART:20111221T150000Z
DTEND:20111221T190000Z
CATEGORIES:Verschiedenes
SUMMARY;CHARSET=UTF-8:Jugendtreff geöffnet am Mittwoch vor Weihnachten
DESCRIPTION;CHARSET=UTF-8:Einfach kommen und da sein. Chillen vor der Weihnachtsaction. Wenn ihr Lust habt, \ningt doch Lustiges, Trashiges, Wahnsinniges zum Thema Weihnachten mit (Deko, Musik, Filme - auf USB, skurrile Geschichten...). Wenn ihr natürlich Plätzchen mit\ningen wollt, freu ich mich auch :) |   | Bis dahin |   | Grüße von Andrea Nehr | Organisator   Andrea Nehr  | Gemeinde Bubenreuth | Jugendarbeit | Kontakt   Gemeinde Bubenreuth | Andrea Nehr | Birkenallee 51 | 91088 Bubenreuth | Zimmer 9 | Tel.: 09131 8839-18 | Bürozeiten: | Dienstag bis Donnerstag | 09:30 Uhr bis 13:30 Uhr
LOCATION;CHARSET=UTF-8:SVB-Sportheim
 Frankenstraße 49
 91088 Bubenreuth
UID:d8c0a49afb69a5e25e9afdf649927181-e41778bc3352f771421ad17e596d8f2c
PRIORITY:3
END:VEVENT
END:VCALENDAR