BEGIN:VCALENDAR
VERSION:1.0
PRODID:Open2CBasicKalenderExportV11
BEGIN:VEVENT

DTSTAMP:20111026T143519Z
DTSTART:20111110T150000Z
DTEND:20111110T170000Z
CATEGORIES:Verschiedenes
SUMMARY;CHARSET=UTF-8:Neugierig auf den Jugendtreff?
DESCRIPTION;CHARSET=UTF-8:  | Neugierig auf den Jugendtreff? Lust mitzumachen? Einfach mal hören, was da so los sein soll? |   | ...dann komm doch!!! |   | Am Donnerstag, 10. November, von 16 bis 18 Uhr und/oder | am Donnerstag, 17. November, von 16 bis 18 Uhr |   | in den Jugendraum, Untergeschoss des SVB-Sportheims „Zum Franken" | Frankenstraße 49, 91088 Bubenreuth (gleich rechts neben der Feuerwehr, der Eingang ist am Gebäude rechts hinten) |   | Ich freue mich und bin gespannt auf eure Ideen! | Eure Andrea Nehr | Organisator   Gemeinde Bubenreuth | Kontakt   Andrea Nehr | Beauftragte für Jugendarbeit | 09131 883918
LOCATION;CHARSET=UTF-8:Jugendraum im Untergeschoss des SVB-Sportheims "Zum Franken"
 Frankenstraße 49
 91088 Bubenreuth
UID:12e4fd288971cff0b96d63a103386c8a-7463409475be262bd9f8c3f3cb9195b0
PRIORITY:3
END:VEVENT
BEGIN:VEVENT

DTSTAMP:20111026T143728Z
DTSTART:20111117T150000Z
DTEND:20111117T170000Z
CATEGORIES:Verschiedenes
SUMMARY;CHARSET=UTF-8:Neugierig auf den Jugendtreff?
DESCRIPTION;CHARSET=UTF-8:  | Neugierig auf den Jugendtreff? Lust mitzumachen? Einfach mal hören, was da so los sein soll? |   | ...dann komm doch!!! |   | Am Donnerstag, 10. November, von 16 bis 18 Uhr und/oder | am Donnerstag, 17. November, von 16 bis 18 Uhr |   | in den Jugendraum, Untergeschoss des SVB-Sportheims „Zum Franken" | Frankenstraße 49, 91088 Bubenreuth (gleich rechts neben der Feuerwehr, der Eingang ist am Gebäude rechts hinten) |   | Ich freue mich und bin gespannt auf eure Ideen! | Eure Andrea Nehr | Organisator   Gemeinde Bubenreuth | Kontakt   Andrea Nehr | Beauftragte für Jugendarbeit | 09131 883918
LOCATION;CHARSET=UTF-8:Jugendraum im Untergeschoss des SVB-Sportheims "Zum Franken"
 Frankenstraße 49
 91088 Bubenreuth
UID:7e249cd3f56db360bf200ad3de1cd965-7463409475be262bd9f8c3f3cb9195b0
PRIORITY:3
END:VEVENT
BEGIN:VEVENT

DTSTAMP:20111104T093949Z
DTSTART:20111124T150000Z
DTEND:20111124T160000Z
CATEGORIES:Kinder
SUMMARY;CHARSET=UTF-8:Vorlesestunde für Kinder - Piggeldy und Frederick
DESCRIPTION;CHARSET=UTF-8:Elke u. Dieter Loewe, Die schönsten Geschichten von Piggeldy und Frederick | "Frederick, was ist ...?", löchert Piggeldy seinen großen Bruder Frederick immer wieder von neuem. "Nichts leichter als das", beginnt Frederick, der nie um eine Antort verlegen ist, seine unsinnig-tiefsinnigen Erklärungen. Alle unverwechselbaren Frage- und Antwortgeschichten der beliebten Kult-Schweine gibt es jetzt komplett in diesem Jubiläums-Band.   |   | Organisator   Barbara Willers | Kontakt   Barbara Willers | Gemeindebücherei | Birkenallee 51 | 91088 Bubenreuth | buecherei@bubenreuth.de | Tel. 09131/8839-27
LOCATION;CHARSET=UTF-8:Gemeindebücherei
UID:3b9cca8a97bd1815c3b11965b8080752-118cc733ea600118675d92e7d7b55a28
PRIORITY:3
END:VEVENT
END:VCALENDAR