BEGIN:VCALENDAR
VERSION:1.0
PRODID:Open2CBasicKalenderExportV11
BEGIN:VEVENT

DTSTAMP:20111026T143519Z
DTSTART:20111110T150000Z
DTEND:20111110T170000Z
CATEGORIES:Verschiedenes
SUMMARY;CHARSET=UTF-8:Neugierig auf den Jugendtreff?
DESCRIPTION;CHARSET=UTF-8:  | Neugierig auf den Jugendtreff? Lust mitzumachen? Einfach mal hören, was da so los sein soll? |   | ...dann komm doch!!! |   | Am Donnerstag, 10. November, von 16 bis 18 Uhr und/oder | am Donnerstag, 17. November, von 16 bis 18 Uhr |   | in den Jugendraum, Untergeschoss des SVB-Sportheims „Zum Franken" | Frankenstraße 49, 91088 Bubenreuth (gleich rechts neben der Feuerwehr, der Eingang ist am Gebäude rechts hinten) |   | Ich freue mich und bin gespannt auf eure Ideen! | Eure Andrea Nehr | Organisator   Gemeinde Bubenreuth | Kontakt   Andrea Nehr | Beauftragte für Jugendarbeit | 09131 883918
LOCATION;CHARSET=UTF-8:Jugendraum im Untergeschoss des SVB-Sportheims "Zum Franken"
 Frankenstraße 49
 91088 Bubenreuth
UID:12e4fd288971cff0b96d63a103386c8a-7463409475be262bd9f8c3f3cb9195b0
PRIORITY:3
END:VEVENT
END:VCALENDAR